BEGIN:VCALENDAR
VERSION:2.0
PRODID:-//Park House - ECPv6.15.17.1//NONSGML v1.0//EN
CALSCALE:GREGORIAN
METHOD:PUBLISH
X-WR-CALNAME:Park House
X-ORIGINAL-URL:https://parkhouse412.com
X-WR-CALDESC:Events for Park House
REFRESH-INTERVAL;VALUE=DURATION:PT1H
X-Robots-Tag:noindex
X-PUBLISHED-TTL:PT1H
BEGIN:VTIMEZONE
TZID:America/New_York
BEGIN:DAYLIGHT
TZOFFSETFROM:-0500
TZOFFSETTO:-0400
TZNAME:EDT
DTSTART:20250309T070000
END:DAYLIGHT
BEGIN:STANDARD
TZOFFSETFROM:-0400
TZOFFSETTO:-0500
TZNAME:EST
DTSTART:20251102T060000
END:STANDARD
BEGIN:DAYLIGHT
TZOFFSETFROM:-0500
TZOFFSETTO:-0400
TZNAME:EDT
DTSTART:20260308T070000
END:DAYLIGHT
BEGIN:STANDARD
TZOFFSETFROM:-0400
TZOFFSETTO:-0500
TZNAME:EST
DTSTART:20261101T060000
END:STANDARD
BEGIN:DAYLIGHT
TZOFFSETFROM:-0500
TZOFFSETTO:-0400
TZNAME:EDT
DTSTART:20270314T070000
END:DAYLIGHT
BEGIN:STANDARD
TZOFFSETFROM:-0400
TZOFFSETTO:-0500
TZNAME:EST
DTSTART:20271107T060000
END:STANDARD
END:VTIMEZONE
BEGIN:VEVENT
DTSTART;TZID=America/New_York:20260903T190000
DTEND;TZID=America/New_York:20260903T220000
DTSTAMP:20260420T164256
CREATED:20260330T165655Z
LAST-MODIFIED:20260330T165655Z
UID:583-1788462000-1788472800@parkhouse412.com
SUMMARY:Jake Rubenstein
DESCRIPTION:
URL:https://parkhouse412.com/event/jake-rubenstein/
END:VEVENT
BEGIN:VEVENT
DTSTART;TZID=America/New_York:20260905T200000
DTEND;TZID=America/New_York:20260905T230000
DTSTAMP:20260420T164256
CREATED:20260211T233123Z
LAST-MODIFIED:20260211T233341Z
UID:412-1788638400-1788649200@parkhouse412.com
SUMMARY:Mike Urick and the Modelaires
DESCRIPTION:
URL:https://parkhouse412.com/event/mike-urick-and-the-modelaires-8/
END:VEVENT
BEGIN:VEVENT
DTSTART;TZID=America/New_York:20260910T200000
DTEND;TZID=America/New_York:20260910T230000
DTSTAMP:20260420T164256
CREATED:20260315T180201Z
LAST-MODIFIED:20260326T130931Z
UID:518-1789070400-1789081200@parkhouse412.com
SUMMARY:Pappy from theCAUSE (Solo)
DESCRIPTION:
URL:https://parkhouse412.com/event/pappy-from-thecause-solo-7/
END:VEVENT
BEGIN:VEVENT
DTSTART;TZID=America/New_York:20260925T200000
DTEND;TZID=America/New_York:20260925T230000
DTSTAMP:20260420T164256
CREATED:20260328T152436Z
LAST-MODIFIED:20260328T152436Z
UID:578-1790366400-1790377200@parkhouse412.com
SUMMARY:Octoberfest Celebration with Pech & Schwefel (From Vienna\, Austria)
DESCRIPTION:
URL:https://parkhouse412.com/event/octoberfest-celebration-with-pech-schwefel-from-vienna-austria/
END:VEVENT
BEGIN:VEVENT
DTSTART;TZID=America/New_York:20260926T200000
DTEND;TZID=America/New_York:20260926T230000
DTSTAMP:20260420T164256
CREATED:20260328T152524Z
LAST-MODIFIED:20260328T152524Z
UID:579-1790452800-1790463600@parkhouse412.com
SUMMARY:Octoberfest Celebration with Pech & Schwefel (From Vienna\, Austria)
DESCRIPTION:
URL:https://parkhouse412.com/event/octoberfest-celebration-with-pech-schwefel-from-vienna-austria-2/
END:VEVENT
BEGIN:VEVENT
DTSTART;TZID=America/New_York:20261001T190000
DTEND;TZID=America/New_York:20261001T220000
DTSTAMP:20260420T164256
CREATED:20260330T165738Z
LAST-MODIFIED:20260330T165738Z
UID:584-1790881200-1790892000@parkhouse412.com
SUMMARY:Jake Rubenstein
DESCRIPTION:
URL:https://parkhouse412.com/event/jake-rubenstein-2/
END:VEVENT
BEGIN:VEVENT
DTSTART;TZID=America/New_York:20261003T200000
DTEND;TZID=America/New_York:20261003T230000
DTSTAMP:20260420T164256
CREATED:20260211T233456Z
LAST-MODIFIED:20260211T233456Z
UID:413-1791057600-1791068400@parkhouse412.com
SUMMARY:Mike Urick and the Modelaires
DESCRIPTION:
URL:https://parkhouse412.com/event/mike-urick-and-the-modelaires-9/
END:VEVENT
BEGIN:VEVENT
DTSTART;TZID=America/New_York:20261008T200000
DTEND;TZID=America/New_York:20261008T230000
DTSTAMP:20260420T164256
CREATED:20260315T180253Z
LAST-MODIFIED:20260326T130920Z
UID:519-1791489600-1791500400@parkhouse412.com
SUMMARY:Pappy from theCAUSE (Solo)
DESCRIPTION:
URL:https://parkhouse412.com/event/pappy-from-thecause-solo-8/
END:VEVENT
BEGIN:VEVENT
DTSTART;TZID=America/New_York:20261029T190000
DTEND;TZID=America/New_York:20261029T220000
DTSTAMP:20260420T164256
CREATED:20260330T165822Z
LAST-MODIFIED:20260330T165822Z
UID:585-1793300400-1793311200@parkhouse412.com
SUMMARY:Jake Rubenstein
DESCRIPTION:
URL:https://parkhouse412.com/event/jake-rubenstein-3/
END:VEVENT
BEGIN:VEVENT
DTSTART;TZID=America/New_York:20261107T200000
DTEND;TZID=America/New_York:20261107T230000
DTSTAMP:20260420T164256
CREATED:20260211T233602Z
LAST-MODIFIED:20260211T233602Z
UID:414-1794081600-1794092400@parkhouse412.com
SUMMARY:Mike Urick and the Modelaires
DESCRIPTION:
URL:https://parkhouse412.com/event/mike-urick-and-the-modelaires-10/
END:VEVENT
BEGIN:VEVENT
DTSTART;TZID=America/New_York:20261112T200000
DTEND;TZID=America/New_York:20261112T230000
DTSTAMP:20260420T164256
CREATED:20260315T180341Z
LAST-MODIFIED:20260326T130907Z
UID:520-1794513600-1794524400@parkhouse412.com
SUMMARY:Pappy from theCAUSE (Solo)
DESCRIPTION:
URL:https://parkhouse412.com/event/pappy-from-thecause-solo-9/
END:VEVENT
BEGIN:VEVENT
DTSTART;TZID=America/New_York:20261205T200000
DTEND;TZID=America/New_York:20261205T230000
DTSTAMP:20260420T164256
CREATED:20260211T233705Z
LAST-MODIFIED:20260211T233705Z
UID:415-1796500800-1796511600@parkhouse412.com
SUMMARY:Mike Urick and the Modelaires
DESCRIPTION:
URL:https://parkhouse412.com/event/mike-urick-and-the-modelaires-11/
END:VEVENT
BEGIN:VEVENT
DTSTART;TZID=America/New_York:20261210T200000
DTEND;TZID=America/New_York:20261210T230000
DTSTAMP:20260420T164256
CREATED:20260315T180438Z
LAST-MODIFIED:20260326T130845Z
UID:521-1796932800-1796943600@parkhouse412.com
SUMMARY:Pappy from theCAUSE (Solo)
DESCRIPTION:
URL:https://parkhouse412.com/event/pappy-from-thecause-solo-10/
END:VEVENT
END:VCALENDAR