BEGIN:VCALENDAR
VERSION:2.0
PRODID:-//Park House - ECPv6.15.17.1//NONSGML v1.0//EN
CALSCALE:GREGORIAN
METHOD:PUBLISH
X-WR-CALNAME:Park House
X-ORIGINAL-URL:https://parkhouse412.com
X-WR-CALDESC:Events for Park House
REFRESH-INTERVAL;VALUE=DURATION:PT1H
X-Robots-Tag:noindex
X-PUBLISHED-TTL:PT1H
BEGIN:VTIMEZONE
TZID:America/New_York
BEGIN:DAYLIGHT
TZOFFSETFROM:-0500
TZOFFSETTO:-0400
TZNAME:EDT
DTSTART:20250309T070000
END:DAYLIGHT
BEGIN:STANDARD
TZOFFSETFROM:-0400
TZOFFSETTO:-0500
TZNAME:EST
DTSTART:20251102T060000
END:STANDARD
BEGIN:DAYLIGHT
TZOFFSETFROM:-0500
TZOFFSETTO:-0400
TZNAME:EDT
DTSTART:20260308T070000
END:DAYLIGHT
BEGIN:STANDARD
TZOFFSETFROM:-0400
TZOFFSETTO:-0500
TZNAME:EST
DTSTART:20261101T060000
END:STANDARD
BEGIN:DAYLIGHT
TZOFFSETFROM:-0500
TZOFFSETTO:-0400
TZNAME:EDT
DTSTART:20270314T070000
END:DAYLIGHT
BEGIN:STANDARD
TZOFFSETFROM:-0400
TZOFFSETTO:-0500
TZNAME:EST
DTSTART:20271107T060000
END:STANDARD
END:VTIMEZONE
BEGIN:VEVENT
DTSTART;TZID=America/New_York:20260327T200000
DTEND;TZID=America/New_York:20260327T230000
DTSTAMP:20260420T132937
CREATED:20251231T181317Z
LAST-MODIFIED:20260122T200955Z
UID:219-1774641600-1774652400@parkhouse412.com
SUMMARY:Aaron Lewinter and the Fortune of Love
DESCRIPTION:
URL:https://parkhouse412.com/event/aaron-lewinter-and-the-fortune-of-love-12/
END:VEVENT
BEGIN:VEVENT
DTSTART;TZID=America/New_York:20260321T200000
DTEND;TZID=America/New_York:20260321T230000
DTSTAMP:20260420T132937
CREATED:20260211T232427Z
LAST-MODIFIED:20260211T232427Z
UID:406-1774123200-1774134000@parkhouse412.com
SUMMARY:Mike Urick and the Modelaires
DESCRIPTION:
URL:https://parkhouse412.com/event/mike-urick-and-the-modelaires-2/
END:VEVENT
BEGIN:VEVENT
DTSTART;TZID=America/New_York:20260320T200000
DTEND;TZID=America/New_York:20260320T230000
DTSTAMP:20260420T132937
CREATED:20251231T181223Z
LAST-MODIFIED:20260122T201016Z
UID:218-1774036800-1774047600@parkhouse412.com
SUMMARY:Aaron Lewinter and the Fortune of Love
DESCRIPTION:
URL:https://parkhouse412.com/event/aaron-lewinter-and-the-fortune-of-love-11/
END:VEVENT
BEGIN:VEVENT
DTSTART;TZID=America/New_York:20260313T200000
DTEND;TZID=America/New_York:20260313T230000
DTSTAMP:20260420T132937
CREATED:20260122T201339Z
LAST-MODIFIED:20260122T201339Z
UID:323-1773432000-1773442800@parkhouse412.com
SUMMARY:Aaron Lewinter and the Fortune of Love
DESCRIPTION:
URL:https://parkhouse412.com/event/aaron-lewinter-and-the-fortune-of-love-14/
END:VEVENT
BEGIN:VEVENT
DTSTART;TZID=America/New_York:20260312T080000
DTEND;TZID=America/New_York:20260312T230000
DTSTAMP:20260420T132937
CREATED:20260128T173735Z
LAST-MODIFIED:20260128T173735Z
UID:359-1773302400-1773356400@parkhouse412.com
SUMMARY:Pappy from theCause (Solo)
DESCRIPTION:
URL:https://parkhouse412.com/event/pappy-from-thecause-solo/
END:VEVENT
BEGIN:VEVENT
DTSTART;TZID=America/New_York:20260306T200000
DTEND;TZID=America/New_York:20260306T230000
DTSTAMP:20260420T132937
CREATED:20251231T180232Z
LAST-MODIFIED:20260122T201221Z
UID:215-1772827200-1772838000@parkhouse412.com
SUMMARY:Aaron Lewinter and the Fortune of Love
DESCRIPTION:
URL:https://parkhouse412.com/event/aaron-lewinter-and-the-fortune-of-love-10/
END:VEVENT
BEGIN:VEVENT
DTSTART;TZID=America/New_York:20260227T200000
DTEND;TZID=America/New_York:20260227T230000
DTSTAMP:20260420T132937
CREATED:20251231T180113Z
LAST-MODIFIED:20260122T200301Z
UID:214-1772222400-1772233200@parkhouse412.com
SUMMARY:Aaron Lewinter and the Fortune of Love
DESCRIPTION:
URL:https://parkhouse412.com/event/aaron-lewinter-and-the-fortune-of-love-9/
END:VEVENT
BEGIN:VEVENT
DTSTART;TZID=America/New_York:20260226T190000
DTEND;TZID=America/New_York:20260226T220000
DTSTAMP:20260420T132937
CREATED:20260104T172348Z
LAST-MODIFIED:20260104T172348Z
UID:236-1772132400-1772143200@parkhouse412.com
SUMMARY:Paz and Ukulele Eddie
DESCRIPTION:
URL:https://parkhouse412.com/event/paz-and-ukulele-eddie/
END:VEVENT
BEGIN:VEVENT
DTSTART;TZID=America/New_York:20260225T200000
DTEND;TZID=America/New_York:20260225T230000
DTSTAMP:20260420T132937
CREATED:20251231T182820Z
LAST-MODIFIED:20260122T200205Z
UID:229-1772049600-1772060400@parkhouse412.com
SUMMARY:Kenny Blake and the New Hip
DESCRIPTION:
URL:https://parkhouse412.com/event/kenny-blake-and-the-new-hip-7/
END:VEVENT
BEGIN:VEVENT
DTSTART;TZID=America/New_York:20260220T200000
DTEND;TZID=America/New_York:20260220T230000
DTSTAMP:20260420T132937
CREATED:20251231T175442Z
LAST-MODIFIED:20260122T200125Z
UID:212-1771617600-1771628400@parkhouse412.com
SUMMARY:Aaron Lewinter and the Fortune of Love
DESCRIPTION:
URL:https://parkhouse412.com/event/aaron-lewinter-and-the-fortune-of-love-8/
END:VEVENT
BEGIN:VEVENT
DTSTART;TZID=America/New_York:20260218T200000
DTEND;TZID=America/New_York:20260218T230000
DTSTAMP:20260420T132937
CREATED:20251231T182645Z
LAST-MODIFIED:20260122T200042Z
UID:228-1771444800-1771455600@parkhouse412.com
SUMMARY:Kenny Blake and the New Hip
DESCRIPTION:
URL:https://parkhouse412.com/event/kenny-blake-and-the-new-hip-6/
END:VEVENT
BEGIN:VEVENT
DTSTART;TZID=America/New_York:20260214T200000
DTEND;TZID=America/New_York:20260214T230000
DTSTAMP:20260420T132937
CREATED:20260126T155346Z
LAST-MODIFIED:20260126T155346Z
UID:336-1771099200-1771110000@parkhouse412.com
SUMMARY:David Powell (solo)
DESCRIPTION:
URL:https://parkhouse412.com/event/david-powell-solo/
END:VEVENT
BEGIN:VEVENT
DTSTART;TZID=America/New_York:20260213T200000
DTEND;TZID=America/New_York:20260213T230000
DTSTAMP:20260420T132937
CREATED:20251231T175350Z
LAST-MODIFIED:20260122T200007Z
UID:211-1771012800-1771023600@parkhouse412.com
SUMMARY:Aaron Lewinter and the Fortune of Love
DESCRIPTION:
URL:https://parkhouse412.com/event/aaron-lewinter-and-the-fortune-of-love-7/
END:VEVENT
BEGIN:VEVENT
DTSTART;TZID=America/New_York:20260211T200000
DTEND;TZID=America/New_York:20260211T230000
DTSTAMP:20260420T132937
CREATED:20251231T182507Z
LAST-MODIFIED:20260122T195947Z
UID:227-1770840000-1770850800@parkhouse412.com
SUMMARY:Kenny Blake and the New Hip
DESCRIPTION:
URL:https://parkhouse412.com/event/kenny-blake-and-the-new-hip-5/
END:VEVENT
BEGIN:VEVENT
DTSTART;TZID=America/New_York:20260207T200000
DTEND;TZID=America/New_York:20260207T230000
DTSTAMP:20260420T132937
CREATED:20260122T201510Z
LAST-MODIFIED:20260122T201510Z
UID:324-1770494400-1770505200@parkhouse412.com
SUMMARY:Mike Urick and the Modelaires
DESCRIPTION:
URL:https://parkhouse412.com/event/mike-urick-and-the-modelaires/
END:VEVENT
BEGIN:VEVENT
DTSTART;TZID=America/New_York:20260206T200000
DTEND;TZID=America/New_York:20260206T230000
DTSTAMP:20260420T132937
CREATED:20251231T175223Z
LAST-MODIFIED:20260122T195925Z
UID:210-1770408000-1770418800@parkhouse412.com
SUMMARY:Aaron Lewinter and the Fortune of Love
DESCRIPTION:
URL:https://parkhouse412.com/event/aaron-lewinter-and-the-fortune-of-love-6/
END:VEVENT
BEGIN:VEVENT
DTSTART;TZID=America/New_York:20260204T200000
DTEND;TZID=America/New_York:20260204T230000
DTSTAMP:20260420T132937
CREATED:20251231T182419Z
LAST-MODIFIED:20260122T195853Z
UID:226-1770235200-1770246000@parkhouse412.com
SUMMARY:Kenny Blake and the New Hip
DESCRIPTION:
URL:https://parkhouse412.com/event/kenny-blake-and-the-new-hip-4/
END:VEVENT
BEGIN:VEVENT
DTSTART;TZID=America/New_York:20260130T200000
DTEND;TZID=America/New_York:20260130T230000
DTSTAMP:20260420T132937
CREATED:20251231T174830Z
LAST-MODIFIED:20260122T195811Z
UID:209-1769803200-1769814000@parkhouse412.com
SUMMARY:Aaron Lewinter and the Fortune of Love
DESCRIPTION:
URL:https://parkhouse412.com/event/aaron-lewinter-and-the-fortune-of-love-5/
END:VEVENT
BEGIN:VEVENT
DTSTART;TZID=America/New_York:20260128T200000
DTEND;TZID=America/New_York:20260128T230000
DTSTAMP:20260420T132937
CREATED:20251231T182221Z
LAST-MODIFIED:20260122T195631Z
UID:224-1769630400-1769641200@parkhouse412.com
SUMMARY:Kenny Blake and the New Hip
DESCRIPTION:
URL:https://parkhouse412.com/event/kenny-blake-and-the-new-hip-3/
END:VEVENT
BEGIN:VEVENT
DTSTART;TZID=America/New_York:20260123T200000
DTEND;TZID=America/New_York:20260123T230000
DTSTAMP:20260420T132937
CREATED:20251231T174740Z
LAST-MODIFIED:20260122T195540Z
UID:208-1769198400-1769209200@parkhouse412.com
SUMMARY:Aaron Lewinter and the Fortune of Love
DESCRIPTION:
URL:https://parkhouse412.com/event/aaron-lewinter-and-the-fortune-of-love-4/
END:VEVENT
BEGIN:VEVENT
DTSTART;TZID=America/New_York:20260121T190000
DTEND;TZID=America/New_York:20260121T220000
DTSTAMP:20260420T132937
CREATED:20251231T182151Z
LAST-MODIFIED:20251231T182151Z
UID:223-1769022000-1769032800@parkhouse412.com
SUMMARY:Kenny Blake and the New Hip
DESCRIPTION:
URL:https://parkhouse412.com/event/kenny-blake-and-the-new-hip-2/
END:VEVENT
BEGIN:VEVENT
DTSTART;TZID=America/New_York:20260116T190000
DTEND;TZID=America/New_York:20260116T220000
DTSTAMP:20260420T132937
CREATED:20251231T174651Z
LAST-MODIFIED:20251231T174651Z
UID:207-1768590000-1768600800@parkhouse412.com
SUMMARY:Aaron Lewinter and the Fortune of Love
DESCRIPTION:
URL:https://parkhouse412.com/event/aaron-lewinter-and-the-fortune-of-love-3/
END:VEVENT
BEGIN:VEVENT
DTSTART;TZID=America/New_York:20260114T190000
DTEND;TZID=America/New_York:20260114T220000
DTSTAMP:20260420T132937
CREATED:20251231T181833Z
LAST-MODIFIED:20251231T181914Z
UID:222-1768417200-1768428000@parkhouse412.com
SUMMARY:Kenny Blake and the New Hip
DESCRIPTION:
URL:https://parkhouse412.com/event/aaron-lewinter-and-the-fortune-of-love-13/
END:VEVENT
BEGIN:VEVENT
DTSTART;TZID=America/New_York:20260109T190000
DTEND;TZID=America/New_York:20260109T220000
DTSTAMP:20260420T132937
CREATED:20251231T174449Z
LAST-MODIFIED:20251231T174449Z
UID:206-1767985200-1767996000@parkhouse412.com
SUMMARY:Aaron Lewinter and the Fortune of Love
DESCRIPTION:
URL:https://parkhouse412.com/event/aaron-lewinter-and-the-fortune-of-love-2/
END:VEVENT
BEGIN:VEVENT
DTSTART;TZID=America/New_York:20260107T190000
DTEND;TZID=America/New_York:20260107T220000
DTSTAMP:20260420T132937
CREATED:20251231T181618Z
LAST-MODIFIED:20251231T181618Z
UID:220-1767812400-1767823200@parkhouse412.com
SUMMARY:Kenny Blake and the New Hip
DESCRIPTION:
URL:https://parkhouse412.com/event/kenny-blake-and-the-new-hip/
END:VEVENT
BEGIN:VEVENT
DTSTART;TZID=America/New_York:20260103T193000
DTEND;TZID=America/New_York:20260103T223000
DTSTAMP:20260420T132937
CREATED:20251231T180834Z
LAST-MODIFIED:20251231T181012Z
UID:216-1767468600-1767479400@parkhouse412.com
SUMMARY:The Street Sneakers
DESCRIPTION:
URL:https://parkhouse412.com/event/the-street-sneakers/
END:VEVENT
BEGIN:VEVENT
DTSTART;TZID=America/New_York:20260102T190000
DTEND;TZID=America/New_York:20260102T220000
DTSTAMP:20260420T132937
CREATED:20251229T220822Z
LAST-MODIFIED:20251229T220941Z
UID:202-1767380400-1767391200@parkhouse412.com
SUMMARY:Aaron Lewinter and the Fortune of Love
DESCRIPTION:
URL:https://parkhouse412.com/event/aaron-lewinter-and-the-fortune-of-love/
ORGANIZER;CN="The Park House":MAILTO:hello@parkhouse412.com
END:VEVENT
END:VCALENDAR